BEGIN:VCALENDAR
VERSION:2.0
PRODID:-//Blog Astro-Uranie - ECPv6.15.20//NONSGML v1.0//EN
CALSCALE:GREGORIAN
METHOD:PUBLISH
X-ORIGINAL-URL:https://www.astro-uranie.com
X-WR-CALDESC:Évènements pour Blog Astro-Uranie
REFRESH-INTERVAL;VALUE=DURATION:PT1H
X-Robots-Tag:noindex
X-PUBLISHED-TTL:PT1H
BEGIN:VTIMEZONE
TZID:Europe/Helsinki
BEGIN:DAYLIGHT
TZOFFSETFROM:+0200
TZOFFSETTO:+0300
TZNAME:EEST
DTSTART:20240331T010000
END:DAYLIGHT
BEGIN:STANDARD
TZOFFSETFROM:+0300
TZOFFSETTO:+0200
TZNAME:EET
DTSTART:20241027T010000
END:STANDARD
BEGIN:DAYLIGHT
TZOFFSETFROM:+0200
TZOFFSETTO:+0300
TZNAME:EEST
DTSTART:20250330T010000
END:DAYLIGHT
BEGIN:STANDARD
TZOFFSETFROM:+0300
TZOFFSETTO:+0200
TZNAME:EET
DTSTART:20251026T010000
END:STANDARD
BEGIN:DAYLIGHT
TZOFFSETFROM:+0200
TZOFFSETTO:+0300
TZNAME:EEST
DTSTART:20260329T010000
END:DAYLIGHT
BEGIN:STANDARD
TZOFFSETFROM:+0300
TZOFFSETTO:+0200
TZNAME:EET
DTSTART:20261025T010000
END:STANDARD
BEGIN:DAYLIGHT
TZOFFSETFROM:+0200
TZOFFSETTO:+0300
TZNAME:EEST
DTSTART:20270328T010000
END:DAYLIGHT
BEGIN:STANDARD
TZOFFSETFROM:+0300
TZOFFSETTO:+0200
TZNAME:EET
DTSTART:20271031T010000
END:STANDARD
END:VTIMEZONE
BEGIN:VEVENT
DTSTART;TZID=Europe/Helsinki:20260321T203000
DTEND;TZID=Europe/Helsinki:20260321T233000
DTSTAMP:20260420T073056
CREATED:20260209T131212Z
LAST-MODIFIED:20260209T213749Z
UID:3712-1774125000-1774135800@www.astro-uranie.com
SUMMARY:Observation sur notre site de Coulombs en Valois à 20h30 le 21 03 2026
DESCRIPTION:En cas de mauvais temps la soirée sera annulée
URL:https://www.astro-uranie.com/evenement/observation-sur-notre-site-de-coulombs-en-valois-a-20h30/
END:VEVENT
BEGIN:VEVENT
DTSTART;TZID=Europe/Helsinki:20260313T203000
DTEND;TZID=Europe/Helsinki:20260313T233000
DTSTAMP:20260420T073056
CREATED:20260209T130602Z
LAST-MODIFIED:20260209T213727Z
UID:3710-1773433800-1773444600@www.astro-uranie.com
SUMMARY:Soirée au Mini-Club de Trilport le 13 Mars 2026 à 20h30
DESCRIPTION:
URL:https://www.astro-uranie.com/evenement/soiree-au-mini-club-de-trilport-le-13-mars-2026-a-20h30/
END:VEVENT
BEGIN:VEVENT
DTSTART;TZID=Europe/Helsinki:20260310T080000
DTEND;TZID=Europe/Helsinki:20260310T170000
DTSTAMP:20260420T073056
CREATED:20260310T190325Z
LAST-MODIFIED:20260310T190325Z
UID:3735-1773129600-1773162000@www.astro-uranie.com
SUMMARY:Soirée astro au Mini club de Trilport le 10 Avril 2026 à 20h30
DESCRIPTION:
URL:https://www.astro-uranie.com/evenement/soiree-astro-au-mini-club-de-trilport-le-10-avril-2026-a-20h30-2/
END:VEVENT
BEGIN:VEVENT
DTSTART;TZID=Europe/Helsinki:20260310T080000
DTEND;TZID=Europe/Helsinki:20260310T170000
DTSTAMP:20260420T073056
CREATED:20260310T183041Z
LAST-MODIFIED:20260314T210238Z
UID:3737-1773129600-1773162000@www.astro-uranie.com
SUMMARY:Soirée astro au Mini club de Trilport le 10 Avril 2026 à 20h30
DESCRIPTION:
URL:https://www.astro-uranie.com/evenement/soiree-astro-au-mini-club-de-trilport-le-10-avril-2026-a-20h30/
END:VEVENT
BEGIN:VEVENT
DTSTART;TZID=Europe/Helsinki:20260214T203000
DTEND;TZID=Europe/Helsinki:20260214T233000
DTSTAMP:20260420T073056
CREATED:20260209T213656Z
LAST-MODIFIED:20260209T213656Z
UID:3702-1771101000-1771111800@www.astro-uranie.com
SUMMARY:Observation sur notre site de COULOMBS LE 14 Fevrier 2026 à 20h30
DESCRIPTION:En cas de mauvais temps l’observation sera annulée
URL:https://www.astro-uranie.com/evenement/observation-sur-notre-site-de-coulombs-le-14-fevrier-2026-a-20h30/
END:VEVENT
BEGIN:VEVENT
DTSTART;TZID=Europe/Helsinki:20260210T080000
DTEND;TZID=Europe/Helsinki:20260210T170000
DTSTAMP:20260420T073056
CREATED:20260210T135442Z
LAST-MODIFIED:20260210T135442Z
UID:3723-1770710400-1770742800@www.astro-uranie.com
SUMMARY:Soirée au Mini Club le 10 Avril 2026 à 20h30
DESCRIPTION:
URL:https://www.astro-uranie.com/evenement/club-le-10-avril-2026-a-20h30/
END:VEVENT
BEGIN:VEVENT
DTSTART;TZID=Europe/Helsinki:20260206T203000
DTEND;TZID=Europe/Helsinki:20260206T233000
DTSTAMP:20260420T073056
CREATED:20251216T103009Z
LAST-MODIFIED:20260123T185255Z
UID:3552-1770409800-1770420600@www.astro-uranie.com
SUMMARY:Soirée au Mini club de Trilport le 06 Février 2026 à 20h30
DESCRIPTION:Theme de cette soirée à définir \nJean Sébastien nous parlera des constellations a voir à ce moment
URL:https://www.astro-uranie.com/evenement/so-06-fevrier-2026-a-20h30/
LOCATION:Mini-Club\, rue des Vignes\, Trilport\, 77470\, France
END:VEVENT
BEGIN:VEVENT
DTSTART;TZID=Europe/Helsinki:20260202T080000
DTEND;TZID=Europe/Helsinki:20260202T170000
DTSTAMP:20260420T073056
CREATED:20260202T211340Z
LAST-MODIFIED:20260202T211340Z
UID:3658-1770019200-1770051600@www.astro-uranie.com
SUMMARY:soirée au mini club le 14 02 2026 éssai
DESCRIPTION:éssai de publication
URL:https://www.astro-uranie.com/evenement/soiree-au-mini-club-le-14-02-2026-essai/
END:VEVENT
BEGIN:VEVENT
DTSTART;TZID=Europe/Helsinki:20260202T080000
DTEND;TZID=Europe/Helsinki:20260202T170000
DTSTAMP:20260420T073056
CREATED:20260202T205922Z
LAST-MODIFIED:20260202T205922Z
UID:3655-1770019200-1770051600@www.astro-uranie.com
SUMMARY:OBSERVATION sur le site de COULOMBS LE 14 02 2026 A 20H30
DESCRIPTION:En cas de mauvais temps \, la seance sera annulée
URL:https://www.astro-uranie.com/evenement/observation-sur-le-site-de-coulombs-le-14-02-2026-a-20h30/
END:VEVENT
BEGIN:VEVENT
DTSTART;TZID=Europe/Helsinki:20260127T080000
DTEND;TZID=Europe/Helsinki:20260127T170000
DTSTAMP:20260420T073056
CREATED:20260201T154549Z
LAST-MODIFIED:20260201T154549Z
UID:3622-1769500800-1769533200@www.astro-uranie.com
SUMMARY:Observation sur notre site de Coulombs en valois le 21 03 2026
DESCRIPTION:En cas de mauvais temps \, la soirée est annulée \nconfirmation par Benjamin Tilliet
URL:https://www.astro-uranie.com/evenement/observation-sur-notre-site-de-coulombs-en-valois-le-21-03-2026/
END:VEVENT
BEGIN:VEVENT
DTSTART;TZID=Europe/Helsinki:20260117T203000
DTEND;TZID=Europe/Helsinki:20260117T233000
DTSTAMP:20260420T073056
CREATED:20251216T162221Z
LAST-MODIFIED:20251216T162221Z
UID:3581-1768681800-1768692600@www.astro-uranie.com
SUMMARY:Observation sur le site de Coulombs le 17 janvier 2026 à 20h30
DESCRIPTION:
URL:https://www.astro-uranie.com/evenement/observatbs-le-17-01-2026/
LOCATION:Coulombs en Valois
END:VEVENT
BEGIN:VEVENT
DTSTART;TZID=Europe/Helsinki:20260109T203000
DTEND;TZID=Europe/Helsinki:20260109T233000
DTSTAMP:20260420T073056
CREATED:20260109T183034Z
LAST-MODIFIED:20251216T151122Z
UID:3560-1767990600-1768001400@www.astro-uranie.com
SUMMARY:LE 09 JANVIER 2026 AU MINI CLUB DE TRILPORT SOIREE GALETTE A 20H30
DESCRIPTION:Soirée réservée aux membres du club
URL:https://www.astro-uranie.com/evenement/le-09-janvier-2026-au-mini-club-de-trilport-soiree-galette-a-20h30-2/
LOCATION:Mini-Club\, rue des Vignes\, Trilport\, 77470\, France
END:VEVENT
BEGIN:VEVENT
DTSTART;TZID=Europe/Helsinki:20260109T203000
DTEND;TZID=Europe/Helsinki:20260109T233000
DTSTAMP:20260420T073056
CREATED:20251216T163059Z
LAST-MODIFIED:20251216T163059Z
UID:3586-1767990600-1768001400@www.astro-uranie.com
SUMMARY:Galette des rois au Mini-Club de Trilport le 09 01 2026 à 20h30
DESCRIPTION:
URL:https://www.astro-uranie.com/evenement/galette-des-rois-au-mini-club-de-trilport-le-09-01-2026-a-20h30/
LOCATION:Mini-Club\, rue des Vignes\, Trilport\, 77470\, France
END:VEVENT
BEGIN:VEVENT
DTSTART;TZID=Europe/Helsinki:20251129T203000
DTEND;TZID=Europe/Helsinki:20251129T233000
DTSTAMP:20260420T073056
CREATED:20251103T093805Z
LAST-MODIFIED:20251105T222819Z
UID:3481-1764448200-1764459000@www.astro-uranie.com
SUMMARY:Observation sur le site de COULOMBS EN VALOIS le 29 11 2025 à 20h30
DESCRIPTION:En cas de mauvais temps la soirée sera annulée 
URL:https://www.astro-uranie.com/evenement/observation-sur-le-site-de-coulombs-en-valois-le-29-11-2025-a-20h30/
END:VEVENT
BEGIN:VEVENT
DTSTART;TZID=Europe/Helsinki:20251116T080000
DTEND;TZID=Europe/Helsinki:20251116T170000
DTSTAMP:20260420T073056
CREATED:20251220T213032Z
LAST-MODIFIED:20251203T203742Z
UID:3505-1763280000-1763312400@www.astro-uranie.com
SUMMARY:Observation sur notre site habituel à Coulombs en Valois le 20 decembre 2025 a 20h30
DESCRIPTION:en cas de mauvais temps la sortie sera annulée
URL:https://www.astro-uranie.com/evenement/observation-sur-notre-site-habituel-a-coulombs-en-valois-le-20-decembre-2025-a-20h30/
END:VEVENT
BEGIN:VEVENT
DTSTART;TZID=Europe/Helsinki:20251116T080000
DTEND;TZID=Europe/Helsinki:20251116T170000
DTSTAMP:20260420T073056
CREATED:20251212T183038Z
LAST-MODIFIED:20251124T160538Z
UID:3507-1763280000-1763312400@www.astro-uranie.com
SUMMARY:Soirée au Mini Club de Trilport le 12 Décembre 2025 à 20h30
DESCRIPTION:Jean Sébastien nous parlera des constellations du moment
URL:https://www.astro-uranie.com/evenement/soiree-au-mini-club-de-trilport-le-12-decembre-2025-a-20h30/
END:VEVENT
BEGIN:VEVENT
DTSTART;TZID=Europe/Helsinki:20251114T203000
DTEND;TZID=Europe/Helsinki:20251114T233000
DTSTAMP:20260420T073056
CREATED:20251103T112208Z
LAST-MODIFIED:20251105T222854Z
UID:3485-1763152200-1763163000@www.astro-uranie.com
SUMMARY:SOIREE AU MINI CLUB LE 14 NOVEMBRE 2025 A 20H30
DESCRIPTION:Suite au décès de notre président la soirée sera réservée à l’élection d’un nouveau président \npar les 7 membres du bureau ( selon les règles ) ensuite seront prises les décisions  pour \nune bonne marche de notre club
URL:https://www.astro-uranie.com/evenement/soiree-au-mini-club-le-14-novembre-2025-a-20h30/
END:VEVENT
BEGIN:VEVENT
DTSTART;TZID=Europe/Helsinki:20251018T210000
DTEND;TZID=Europe/Helsinki:20251018T233000
DTSTAMP:20260420T073056
CREATED:20250819T132542Z
LAST-MODIFIED:20250819T132542Z
UID:3456-1760821200-1760830200@www.astro-uranie.com
SUMMARY:OBSERVATION SUR LE SITE DE COULOMBS EN VALOIS le18 octobre 2025 à 21h
DESCRIPTION:
URL:https://www.astro-uranie.com/evenement/observation-sur-le-site-de-coulombs-en-valois-le18-octobre-2025-a-21h/
LOCATION:Coulombs en Valois
END:VEVENT
BEGIN:VEVENT
DTSTART;TZID=Europe/Helsinki:20251010T203000
DTEND;TZID=Europe/Helsinki:20251010T230000
DTSTAMP:20260420T073056
CREATED:20250819T125342Z
LAST-MODIFIED:20250821T150820Z
UID:3452-1760128200-1760137200@www.astro-uranie.com
SUMMARY:ASSEMBLEE GENERALE DE NOTRE CLUB AU MINICLUB  le 10 octobre 2025 à 20h30
DESCRIPTION:Vos bonnes idées pour permettre un bon fonctionnement de notre club URANIE seront les bien venues  
URL:https://www.astro-uranie.com/evenement/soiree-au-miniclub-le-10-octobre-2025-a-20h30-le-10-octobre-2025/
END:VEVENT
BEGIN:VEVENT
DTSTART;TZID=Europe/Helsinki:20250920T210000
DTEND;TZID=Europe/Helsinki:20250920T210000
DTSTAMP:20260420T073056
CREATED:20250729T201552Z
LAST-MODIFIED:20250729T201552Z
UID:3443-1758402000-1758402000@www.astro-uranie.com
SUMMARY:Observation sur le site de COULOMBS EN VALOIS  le 20 09 2025 à 21h
DESCRIPTION:Si le temps est couvert l’observation est annulée \, vous etes prévenu par courrier
URL:https://www.astro-uranie.com/evenement/observation-sur-le-site-de-coulombs-en-valois-le-20-09-2025-a-21h/
END:VEVENT
BEGIN:VEVENT
DTSTART;TZID=Europe/Helsinki:20250912T203000
DTEND;TZID=Europe/Helsinki:20250912T230000
DTSTAMP:20260420T073056
CREATED:20250728T195523Z
LAST-MODIFIED:20250729T193959Z
UID:3437-1757709000-1757718000@www.astro-uranie.com
SUMMARY:Soirée au Mini Club le 12 septembre 2025 à 20h30
DESCRIPTION:Le theme de cette soirée reste à définir
URL:https://www.astro-uranie.com/evenement/soiree-au-mini-club-le-12-septembre-2025-a-20h30/
LOCATION:Mini-Club\, rue des Vignes\, Trilport\, 77470\, France
END:VEVENT
BEGIN:VEVENT
DTSTART;VALUE=DATE:20250907
DTEND;VALUE=DATE:20250908
DTSTAMP:20260420T073056
CREATED:20250819T105649Z
LAST-MODIFIED:20250819T124216Z
UID:3448-1757203200-1757289599@www.astro-uranie.com
SUMMARY:FORUM DES ASSOCIATIONS organisé par la ville de Trilport le 07 Septembre 2025 au stade
DESCRIPTION:Ouverture à 10h dans la grande salle \, pour le public \,  nous pouvons venir pour l’installation  \nà partir de 9h
URL:https://www.astro-uranie.com/evenement/forum-des-associations-organise-par-la-ville-de-trilport-le-07-septembre-2025-au-stade/
LOCATION:stade de Trilport\, rue des Vignes\, Trilport\, France
END:VEVENT
BEGIN:VEVENT
DTSTART;TZID=Europe/Helsinki:20250621T120000
DTEND;TZID=Europe/Helsinki:20250621T180000
DTSTAMP:20260420T073056
CREATED:20250421T160112Z
LAST-MODIFIED:20250421T165748Z
UID:3406-1750507200-1750528800@www.astro-uranie.com
SUMMARY:JOURNEE   BARBECUE   RESERVEE AUX MEMBRES DU CLUB URANIE le  21 06 2025
DESCRIPTION:Chez ROBERT à Sameron nous y ferons une mini observation du soleil
URL:https://www.astro-uranie.com/evenement/journee-barbecue-reservee-aux-membres-du-club-uranie/
END:VEVENT
BEGIN:VEVENT
DTSTART;TZID=Europe/Helsinki:20250606T203000
DTEND;TZID=Europe/Helsinki:20250606T233000
DTSTAMP:20260420T073056
CREATED:20250421T153028Z
LAST-MODIFIED:20250421T153028Z
UID:3401-1749241800-1749252600@www.astro-uranie.com
SUMMARY:Soirée au Mini Club de Trilport le 06 juin 2025
DESCRIPTION:A 20h30    Il nous sera proposé une révision des constellations du moment  \npar Jean Sébastien 
URL:https://www.astro-uranie.com/evenement/soiree-au-mini-club-de-trilport-le-06-juin-2025/
LOCATION:Mini-Club\, rue des Vignes\, Trilport\, 77470\, France
END:VEVENT
BEGIN:VEVENT
DTSTART;TZID=Europe/Helsinki:20250524T210000
DTEND;TZID=Europe/Helsinki:20250524T233000
DTSTAMP:20260420T073056
CREATED:20250405T192922Z
LAST-MODIFIED:20250405T192922Z
UID:3397-1748120400-1748129400@www.astro-uranie.com
SUMMARY:Observation sur le site de Coulombs le 24 mai 2025 à 21h
DESCRIPTION:
URL:https://www.astro-uranie.com/evenement/observation-sur-le-site-de-coulombs-le-24-mai-2025-a-21h/
LOCATION:Coulombs en Valois
END:VEVENT
BEGIN:VEVENT
DTSTART;TZID=Europe/Helsinki:20250516T203000
DTEND;TZID=Europe/Helsinki:20250516T233000
DTSTAMP:20260420T073056
CREATED:20250104T171025Z
LAST-MODIFIED:20250422T155726Z
UID:3311-1747427400-1747438200@www.astro-uranie.com
SUMMARY:Soirée au Mini Club de Trilport le 16 mai 2025 à 20h30
DESCRIPTION:Ce contenu est protégé
URL:https://www.astro-uranie.com/evenement/soiree-au-mini-club-de-trilport-le-16-mai-2025-a-20h30/
END:VEVENT
BEGIN:VEVENT
DTSTART;TZID=Europe/Helsinki:20250426T210000
DTEND;TZID=Europe/Helsinki:20250426T233000
DTSTAMP:20260420T073056
CREATED:20250405T171608Z
LAST-MODIFIED:20250405T171608Z
UID:3395-1745701200-1745710200@www.astro-uranie.com
SUMMARY:Observation sur le site de Coulombs en Valois le 26 avril 2025 à 21h
DESCRIPTION:
URL:https://www.astro-uranie.com/evenement/observation-sur-le-site-de-coulombs-en-valois-le-26-avril-2025-a-21h/
LOCATION:Coulombs en Valois
END:VEVENT
BEGIN:VEVENT
DTSTART;TZID=Europe/Helsinki:20250404T203000
DTEND;TZID=Europe/Helsinki:20250404T233000
DTSTAMP:20260420T073056
CREATED:20250104T170349Z
LAST-MODIFIED:20250104T170349Z
UID:3309-1743798600-1743809400@www.astro-uranie.com
SUMMARY:Soirée au Mini Club de Trilport le 04 avril 2025 à 20h30
DESCRIPTION:
URL:https://www.astro-uranie.com/evenement/soiree-au-mini-club-de-trilport-le-04-avril-2025-a-20h30/
END:VEVENT
BEGIN:VEVENT
DTSTART;TZID=Europe/Helsinki:20250329T203000
DTEND;TZID=Europe/Helsinki:20250329T233000
DTSTAMP:20260420T073056
CREATED:20240925T140233Z
LAST-MODIFIED:20240925T140233Z
UID:3290-1743280200-1743291000@www.astro-uranie.com
SUMMARY:Observation sur le site de Coulombs en Valois le 29 mars 2025 à 20h30
DESCRIPTION:
URL:https://www.astro-uranie.com/evenement/observation-sur-le-site-de-coulombs-en-valois-le-29-mars-2025-a-20h30/
LOCATION:Coulombs en Valois
END:VEVENT
BEGIN:VEVENT
DTSTART;TZID=Europe/Helsinki:20250307T203000
DTEND;TZID=Europe/Helsinki:20250307T233000
DTSTAMP:20260420T073056
CREATED:20250104T165434Z
LAST-MODIFIED:20250104T165434Z
UID:3307-1741379400-1741390200@www.astro-uranie.com
SUMMARY:Soirée au Mini Club de Trilport le 07 mars 2025 à 20h30
DESCRIPTION:
URL:https://www.astro-uranie.com/evenement/soiree-au-mini-club-de-trilport-le-07-mars-2025-a-20h30/
LOCATION:Mini-Club\, rue des Vignes\, Trilport\, 77470\, France
END:VEVENT
END:VCALENDAR